BEGIN:VCALENDAR
VERSION:2.0
PRODID:-//DAIE - ECPv4.6.25//NONSGML v1.0//EN
CALSCALE:GREGORIAN
METHOD:PUBLISH
X-WR-CALNAME:DAIE
X-ORIGINAL-URL:https://www.service-public.pf/daie
X-WR-CALDESC:Évènements pour DAIE
BEGIN:VEVENT
DTSTART;VALUE=DATE:20171118
DTEND;VALUE=DATE:20171127
DTSTAMP:20191211T214230
CREATED:20170911T194944Z
LAST-MODIFIED:20170912T071252Z
UID:2185-1510963200-1511740799@www.service-public.pf
SUMMARY:european week for waste reduction - semaine européenne de réduction des déchets
DESCRIPTION:\n« Aujourd’hui chaque polynésien produit en moyenne 250 kg de déchets par an. Une quantité qui ne cessent d’augmenter : nous achetons plus et plus fréquemment. \nLa réduction des déchets est une démarche essentielle afin : \n\nD’économiser les matières premières épuisables ;\nDe limiter les impacts sur l’environnement ;\nDe diminuer le cout des déchets pour chacun. »\n\n\n Car le meilleur déchet est celui que l’on ne produit pas !\nPour plus d’informations : la présentation de l’événement / le site de l’ADEME en PF / ou ewwr.eu \n\n\n
URL:https://www.service-public.pf/daie/event/european-week-for-waste-reduction-semaine-europeenne-de-reduction-des-dechets/
LOCATION:polynésie française
ATTACH;FMTTYPE=image/jpeg:https://www.service-public.pf/daie/wp-content/uploads/sites/14/2017/09/macaron_serd-1.jpg
END:VEVENT
END:VCALENDAR