BEGIN:VCALENDAR
VERSION:2.0
PRODID:-//DAIE - ECPv4.6.25//NONSGML v1.0//EN
CALSCALE:GREGORIAN
METHOD:PUBLISH
X-WR-CALNAME:DAIE
X-ORIGINAL-URL:https://www.service-public.pf/daie
X-WR-CALDESC:Évènements pour DAIE
BEGIN:VEVENT
DTSTART;VALUE=DATE:20171206
DTEND;VALUE=DATE:20171209
DTSTAMP:20191211T210705
CREATED:20171204T100001Z
LAST-MODIFIED:20171204T100306Z
UID:2408-1512518400-1512777599@www.service-public.pf
SUMMARY:Atelier de clôture du projet INTEGRE
DESCRIPTION:
URL:https://www.service-public.pf/daie/event/atelier-de-cloture-du-projet-integre/
LOCATION:siège de la CPS – Nouméa\, 95 promenade Roger Laroque\, Nouméa\, Nouvelle Calédonie
ATTACH;FMTTYPE=image/jpeg:https://www.service-public.pf/daie/wp-content/uploads/sites/14/2016/10/Logo-Integre-fleur.jpg
END:VEVENT
END:VCALENDAR