BEGIN:VCALENDAR
VERSION:2.0
PRODID:-//Direction de la Jeunesse et des Sports - ECPv4.6.25//NONSGML v1.0//EN
CALSCALE:GREGORIAN
METHOD:PUBLISH
X-WR-CALNAME:Direction de la Jeunesse et des Sports
X-ORIGINAL-URL:https://www.service-public.pf/djs
X-WR-CALDESC:Évènements pour Direction de la Jeunesse et des Sports
BEGIN:VEVENT
DTSTART;VALUE=DATE:20191210
DTEND;VALUE=DATE:20200121
DTSTAMP:20191209T081804
CREATED:20191205T014930Z
LAST-MODIFIED:20191205T014930Z
UID:21994-1575936000-1579564799@www.service-public.pf
SUMMARY:Centres de vacances - Décembre 2019
DESCRIPTION:Ci-après la liste des centres de vacances et de loisirs déclarés à la DJS pour les vacances de décembre 2019 à janvier 2020. \n Liste des CVL déclarés du 10/12/2019 au 20/01/2020 \n
URL:https://www.service-public.pf/djs/event/centres-de-vacances-novembre-2019-1-2-2/
CATEGORIES:Centres de vacances,Jeunesse
ATTACH;FMTTYPE=image/jpeg:https://www.service-public.pf/djs/wp-content/uploads/sites/33/2018/03/Kids.jpg
END:VEVENT
END:VCALENDAR