BEGIN:VCALENDAR
VERSION:2.0
PRODID:-//Direction de la Jeunesse et des Sports - ECPv4.6.25//NONSGML v1.0//EN
CALSCALE:GREGORIAN
METHOD:PUBLISH
X-WR-CALNAME:Direction de la Jeunesse et des Sports
X-ORIGINAL-URL:https://www.service-public.pf/djs
X-WR-CALDESC:Évènements pour Direction de la Jeunesse et des Sports
BEGIN:VEVENT
DTSTART;VALUE=DATE:20180802
DTEND;VALUE=DATE:20180806
DTSTAMP:20191209T101438
CREATED:20180618T175559Z
LAST-MODIFIED:20180813T222028Z
UID:5226-1533168000-1533513599@www.service-public.pf
SUMMARY:Oceania Taekwondo 2018 - 8ème édition
DESCRIPTION:L’Oceania de Taekwondo 2018 se tiendra du 2 au 5 août 2018 à la salle omnisports Christian HELME de la commune de Mahina. Étape incontournable dans le monde du Taekwondo\, cette rencontre sportive permettra aux athlètes locaux et internationaux de s’affronter dans le respect des règles et des techniques de combat\, tout en appréciant le cadre de la compétition. \nLa Fédération tahitienne de Taekwondo et disciplines associées (FTTDA) a tenu à mettre en avant les valeurs de respect et de solidarité durant cette compétition. \nPour la 1ère fois de toute l’histoire du Taekwondo en Polynésie Française\, Tahiti aura le privilège d’accueillir la 2nde President’s Cup – Oceania Region 2018 ainsi que le 8ème Oceania Taekwondo Championships et 3ème Oceania Para Open 2018 en vue de développer la discipline sportive sur le plan local\, régional et international. \nLe Programme\n \nLes Délégations\nTous les champions mondiaux\, qui se réuniront dans cette compétition\, auront l’opportunité de s’attribuer des places dans le classement international\, en vue de participer aux Championnats du monde et/ou aux Jeux Olympiques. Un peu plus de 100 athlètes et staff sont attendus à cette compétition. Le Championnat de Taekwondo – Oceania 2018 est une compétition qui rassemblera les divers pays du Pacifique. Ce sont 16 délégations au total qui sont attendues\, soit environ 350 athlètes en comprenant les équipes techniques. Il convient aussi de préciser que la particularité de cette compétition repose sur le volet handisport. \nLes Catégories\n16 catégories (8 féminines/8 masculines) évolueront sur les tatamis à l’occasion de ces 2 compétitions. \n
URL:https://www.service-public.pf/djs/event/oceania-taekwondo-2018/
LOCATION:Salle Omnisports Christian HELME\, Mahina\, 98709\, Polynésie Française
CATEGORIES:Compétition,Sport
ATTACH;FMTTYPE=image/jpeg:https://www.service-public.pf/djs/wp-content/uploads/sites/33/2018/06/Taekwondo-e1529000223143.jpg
END:VEVENT
END:VCALENDAR