BEGIN:VCALENDAR
VERSION:2.0
PRODID:-//Direction de la Jeunesse et des Sports - ECPv4.6.25//NONSGML v1.0//EN
CALSCALE:GREGORIAN
METHOD:PUBLISH
X-WR-CALNAME:Direction de la Jeunesse et des Sports
X-ORIGINAL-URL:https://www.service-public.pf/djs
X-WR-CALDESC:Évènements pour Direction de la Jeunesse et des Sports
BEGIN:VEVENT
DTSTART;VALUE=DATE:20180305
DTEND;VALUE=DATE:20180310
DTSTAMP:20191209T083343
CREATED:20180227T210116Z
LAST-MODIFIED:20180413T230934Z
UID:3686-1520208000-1520639999@www.service-public.pf
SUMMARY:9ème édition de la Rangiroa Pro 2018
DESCRIPTION: \nProduit par la WSL et la Fédération Tahitienne de Surf\, l’Air Tahiti Rangiroa Surf Pro est le troisième événement QS de la saison Hawaii / Tahiti Nui. Pour cette 9e édition\, ce seront 50 surfeurs pro dont 35 étrangers en lice dans ce QS1000. \nEn effet\, 5 officiels sur 7 de la WS dont Sunny Garcia\, champion du monde Pro ASP en 2000 et Kai Leny\, champion du monde Pro SUP surfing\, seront présents. \n
URL:https://www.service-public.pf/djs/event/rangiroa-pro-qs-1000/
LOCATION:Rangiroa
CATEGORIES:Compétition,Sport
ATTACH;FMTTYPE=image/jpeg:https://www.service-public.pf/djs/wp-content/uploads/sites/33/2018/02/Surf.jpg
ORGANIZER;CN="F%C3%A9d%C3%A9ration%20Tahitienne%20de%20Surf":MAILTO:fedesurf@live.fr
END:VEVENT
END:VCALENDAR