BEGIN:VCALENDAR
VERSION:2.0
PRODID:-//Direction de la Jeunesse et des Sports - ECPv4.6.25//NONSGML v1.0//EN
CALSCALE:GREGORIAN
METHOD:PUBLISH
X-WR-CALNAME:Direction de la Jeunesse et des Sports
X-ORIGINAL-URL:https://www.service-public.pf/djs
X-WR-CALDESC:Évènements pour Direction de la Jeunesse et des Sports
BEGIN:VEVENT
DTSTART;TZID=Pacific/Tahiti:20180215T180000
DTEND;TZID=Pacific/Tahiti:20180215T220000
DTSTAMP:20191209T094654
CREATED:20180118T204733Z
LAST-MODIFIED:20180118T210609Z
UID:3138-1518717600-1518732000@www.service-public.pf
SUMMARY:Remise des Trophées du Sport 2018
DESCRIPTION: \n  \nLa 4ème édition des Trophées du Sport\, ça démarre maintenant ! La remise des trophées se déroulera à l’occasion d’une cérémonie le 15 février 2018 au Grand Théâtre de la Maison de la Culture. Elle sera diffusée en direct sur Polynésie 1ère (TV\, radio et Internet). \n  \nEn attendant\, découvrez chaque jour le portrait d’un des 18 challengers sélectionnés. Votez pour votre sportif préféré du 16 janvier au 9 février 2018 et tentez de gagner un billet d’avion pour Auckland ! \n  \nVoir la bande annonce du grand jeu Trophées du Sport 2018 \n  \n  \n
URL:https://www.service-public.pf/djs/event/remise-trophees-sport-2018/
LOCATION:Maison de la Culture\, 646 Boulevard de la Reine Pōmare IV\, Papeete\, 98713\, Polynésie Française
CATEGORIES:Sport
ATTACH;FMTTYPE=image/jpeg:https://www.service-public.pf/djs/wp-content/uploads/sites/33/2017/10/Athletisme.jpg
END:VEVENT
END:VCALENDAR