BEGIN:VCALENDAR
VERSION:2.0
PRODID:-//Direction de la Jeunesse et des Sports - ECPv4.6.25//NONSGML v1.0//EN
CALSCALE:GREGORIAN
METHOD:PUBLISH
X-WR-CALNAME:Direction de la Jeunesse et des Sports
X-ORIGINAL-URL:https://www.service-public.pf/djs
X-WR-CALDESC:Évènements pour Direction de la Jeunesse et des Sports
BEGIN:VEVENT
DTSTART;TZID=Pacific/Tahiti:20180630T080000
DTEND;TZID=Pacific/Tahiti:20180714T170000
DTSTAMP:20191211T211247
CREATED:20180612T190842Z
LAST-MODIFIED:20180813T220616Z
UID:5103-1530345600-1531587600@www.service-public.pf
SUMMARY:Heiva Tu’aro Ma’ohi no Patitifa 2018
DESCRIPTION:\n\n \nOrganisés par la Fédération Amuitahira’a Tu’aro Ma’ohi\, les 15èmes jeux du Heiva Tu’aro Ma’ohi se tiendront du 30 juin au 14 juillet 2018 à Tautira\, à la Pointe Vénus\, aux Jardins de Pa’ofa’i ainsi qu’au Musée de Tahiti et des Îles\, en entrée libre. \nLes concours de sports traditionnels tiennent une place importante dans le monde polynésien. Ils regroupent aujourd’hui plus de 28 associations et près de 800 licenciés répartis sur les 5 archipels de Polynésie. \nAdresse\, force\, endurance\, habileté… Nombreuses sont les qualités requises pour ces disciplines impressionnantes qui suscitent l’admiration du public\, très nombreux à les suivre. \nGrimper de cocotier\, lever de pierre\, lancer de javelot\, décorticage de coco\, coprah\, courses de porteurs de fruits\, sans oublier les régates de Va’a Taie incarnent les traditions polynésiennes parmi les plus authentiques et les plus spectaculaires. \n\n\n\nProgramme\n\n\n\nTautira / Pointe Vénus – Samedi 30 juin ou dimanche 1er juillet en « Waiting Period »\n9h00 à 15h00 : Régates de Va’a Taie et Motu. \nJardins de Paofai – Mercredi 11 juillet : Courses de porteurs de fruits\n12h00 à 14h00 : Pesée des charges dans les jardins de Paofai\n15h00 à 16h30 : Courses de porteurs de fruits : Tu Hou\, Vahine\, Feia Api\, Aito\n16h30 – Spectacle traditionnel. \nMusée de Tahiti et des Îles – Vendredi 13 juillet de 11h00 à 15h00\n10h00 à 12h00 : Lancer de javelots\, Te vahine / Ui Api\n11h00 à 15h00 : Jeux\, Animations et ateliers traditionnels\n12h00 : Ma’a Tahiti suivi d’un spectacle traditionnel\n12h30 à 16h00 : Lancer de javelot Patia Ai\, Lever de pierre (Vahine\, léger\, moyen\, master)\, Coprah individuel Tane. \nMusée de Tahiti et des Îles – Samedi 14 juillet de 11h00 à 15h00\n9h00 à 11h30 : Lancer de javelots\, Patia Fa\, Coprah équipes vahine\n11h00 à 15h00 : Jeux\, Animations et ateliers traditionnels\n12h00 : Ma’a Tahiti suivi d’un spectacle traditionnel\n13h00 à 16h00 : Lancer de javelot Iaora Farani\, Lutte traditionnelle\, Lever de pierre (Lourd\, super lourd\, extra lourd)\, Coprah équipe Tane\, Grimper au cocotier Tauma Ha’ari. \n\nRetrospective\nRevivez les meilleurs moments du Tu’aro Ma’ohi de l’année 2017 en images : \n\n\n\n\n
URL:https://www.service-public.pf/djs/event/heiva-tuaro-maohi-2018/
LOCATION:Tahiti
CATEGORIES:Compétition,Sport
ATTACH;FMTTYPE=image/jpeg:https://www.service-public.pf/djs/wp-content/uploads/sites/33/2017/11/Tuaro_Maohi.jpg
END:VEVENT
BEGIN:VEVENT
DTSTART;VALUE=DATE:20180701
DTEND;VALUE=DATE:20180816
DTSTAMP:20191211T211247
CREATED:20180611T235818Z
LAST-MODIFIED:20180710T235112Z
UID:5181-1530403200-1534377599@www.service-public.pf
SUMMARY:Centres de vacances - Juillet 2018
DESCRIPTION:Ci-après la liste des centres de vacances et de loisirs du mois de juillet\, déclarés à la DJS. \n Liste des CVL – juillet 2018 – màj le 10/07/2018 \n
URL:https://www.service-public.pf/djs/event/centres-de-vacances-juillet-2018/
CATEGORIES:Centres de vacances,Jeunesse
ATTACH;FMTTYPE=image/jpeg:https://www.service-public.pf/djs/wp-content/uploads/sites/33/2018/03/Kids.jpg
END:VEVENT
BEGIN:VEVENT
DTSTART;VALUE=DATE:20180701
DTEND;VALUE=DATE:20180806
DTSTAMP:20191211T211247
CREATED:20180622T213659Z
LAST-MODIFIED:20180713T215323Z
UID:5289-1530403200-1533513599@www.service-public.pf
SUMMARY:Saga Huahine 2018 - 26ème édition
DESCRIPTION:La 26ème édition de l’opération « Saga » se déroulera sur l’île de Huahine\, du 01 Juillet au 05 Août 2018. \nAu programme\, des ateliers de voile quotidiens organisés par niveau (Optimist\, Hobie-Catamaran) mais aussi\, des découvertes du lagon avec masques et tubas\, du canoë kayak\, de la planche à voile\, des baignades\, des randonnées pédestres\, et des jeux d’équipes. \nDepuis 25 ans\, 16 960 enfants de Tahiti et des îles ont pu quitter leur quotidien en bénéficiant d’une semaine de voile dans des lieux propices à leur épanouissement. Hébergés par des familles d’accueil et parrainés par des particuliers\, des entreprises locales ou grâce à des subventions versées par certains organismes territoriaux ou d’État (La Direction des Solidarités\, de la Famille et de l’Égalité ; la Direction de la Jeunesse et des Sports ; l’I.J.S.P.F ; le Ministère de la Culture et le Contrat de ville). \nPlus qu’un camp de vacances\, la Saga est une expérience dont le but est de susciter chez l’enfant un nouveau regard sur la vie\, porteur d’espoir. \n26ème édition\, cap sur Huahine\n\nL’organisation accueillera 720 enfants principalement originaires de Tahiti\, Moorea\, Huahine\, Taha’a\, Bora Bora\, Maupiti et Raiatea\, choisis par les services sociaux de leurs circonscriptions et dans les centres de foyers d’accueil durant cinq semaines. Les enfants porteurs d’un handicap physique ou mental seront également pris en charge. \nÀ la fin de la journée\, chaque enfant repart en truck dans sa famille d’accueil. Ces familles sont sélectionnées et visitées avant\, pendant et après la Saga par les travailleurs sociaux. Elles jouent un rôle important dans cette opération ; il n’est pas rare que des liens sincères\, solides et durables se créent\, que les enfants soient invités plus tard par les familles et certaines deviennent parfois des familles gardiennes pour le placement d’enfants à plus long terme. \nLes origines de la Saga\nInitié par Henri Cornette de Saint-Cyr\, dit « Doudou » et le Bureau de l’École de Voile d’Arue ; la première destination fut Rangiroa en 1993\, puis Huahine\, Makemo\, Tikehau\, Bora Bora\, Maupiti\, Raiatea\, Tahaa\, Moorea. Certaines d’entre elles ont été visitées plusieurs fois à la demande de ses habitants heureux et fiers d’accueillir les enfants de la Saga. C’est le cas pour l’île de Huahine\, qui accueille la Saga pour la cinquième fois en 25 ans. En plus d’offrir un lieu parfait pour la navigation avec son large plan d’eau dans un lagon turquoise\, le Motu Taiahu accueille la Saga sur une plage de sable blanc\, sans dangers pour les enfants. \nSoutenir la « Saga »\nPour soutenir la Saga\, vous pouvez faire un don via le site de crowdfunding C’Reva ou sur le site de la Saga. \n« Soutenons la Saga\, ensemble tout est possible ! » \n
URL:https://www.service-public.pf/djs/event/saga-huahine-2018-26eme-edition/
LOCATION:Huahine\, 98731\, Polynésie Française
CATEGORIES:Sport
ATTACH;FMTTYPE=image/jpeg:https://www.service-public.pf/djs/wp-content/uploads/sites/33/2018/06/Saga-2-e1531439317267.jpeg
ORGANIZER;CN="Ecole%20de%20voile%20d%27Arue":MAILTO:evatahiti@mail.pf
END:VEVENT
END:VCALENDAR